BEGIN:VCALENDAR
VERSION:2.0
PRODID:-//The Windlesham Club and Theatre - ECPv6.15.17.1//NONSGML v1.0//EN
CALSCALE:GREGORIAN
METHOD:PUBLISH
X-WR-CALNAME:The Windlesham Club and Theatre
X-ORIGINAL-URL:https://www.windlesham.club
X-WR-CALDESC:Events for The Windlesham Club and Theatre
REFRESH-INTERVAL;VALUE=DURATION:PT1H
X-Robots-Tag:noindex
X-PUBLISHED-TTL:PT1H
BEGIN:VTIMEZONE
TZID:UTC
BEGIN:STANDARD
TZOFFSETFROM:+0000
TZOFFSETTO:+0000
TZNAME:UTC
DTSTART:20250101T000000
END:STANDARD
END:VTIMEZONE
BEGIN:VEVENT
DTSTART;TZID=UTC:20260425T100000
DTEND;TZID=UTC:20260425T120000
DTSTAMP:20260425T023635
CREATED:20260414T123801Z
LAST-MODIFIED:20260414T123801Z
UID:3149-1777111200-1777118400@www.windlesham.club
SUMMARY:Windlesham Bowls Club - Open Weekend
DESCRIPTION:
URL:https://www.windlesham.club/event/windlesham-bowls-club-open-weekend/
LOCATION:Windlesham Bowl Club\, Kennel Lane\, Windlesham\, Surrey\, GU20 6JP\, United Kingdom
CATEGORIES:Sport
ATTACH;FMTTYPE=image/jpeg:https://www.windlesham.club/wp-content/uploads/2026/04/Try-outdoor-bowls-poster-thumb.jpg
ORGANIZER;CN="Windlesham Bowls Club":MAILTO:r.160@btinternet.com
END:VEVENT
END:VCALENDAR